BEGIN:VCALENDAR
VERSION:2.0
PRODID:-//Walter Plathe - ECPv6.15.20//NONSGML v1.0//EN
CALSCALE:GREGORIAN
METHOD:PUBLISH
X-WR-CALNAME:Walter Plathe
X-ORIGINAL-URL:https://walterplathe.de
X-WR-CALDESC:Veranstaltungen für Walter Plathe
REFRESH-INTERVAL;VALUE=DURATION:PT1H
X-Robots-Tag:noindex
X-PUBLISHED-TTL:PT1H
BEGIN:VTIMEZONE
TZID:UTC
BEGIN:STANDARD
TZOFFSETFROM:+0000
TZOFFSETTO:+0000
TZNAME:UTC
DTSTART:20240101T000000
END:STANDARD
END:VTIMEZONE
BEGIN:VEVENT
DTSTART;TZID=UTC:20250323T190000
DTEND;TZID=UTC:20250323T190000
DTSTAMP:20260419T184024
CREATED:20250302T182240Z
LAST-MODIFIED:20250302T182339Z
UID:186-1742756400-1742756400@walterplathe.de
SUMMARY:Gregor Gysi und Walter Plathe im Gespräch
DESCRIPTION:im Zille Museum Berlin
URL:https://walterplathe.de/event/gregor-gysi-und-walter-plathe-im-gespraech/
END:VEVENT
END:VCALENDAR