BEGIN:VCALENDAR
VERSION:2.0
PRODID:-//Walter Plathe - ECPv6.15.20//NONSGML v1.0//EN
CALSCALE:GREGORIAN
METHOD:PUBLISH
X-WR-CALNAME:Walter Plathe
X-ORIGINAL-URL:https://walterplathe.de
X-WR-CALDESC:Veranstaltungen für Walter Plathe
REFRESH-INTERVAL;VALUE=DURATION:PT1H
X-Robots-Tag:noindex
X-PUBLISHED-TTL:PT1H
BEGIN:VTIMEZONE
TZID:UTC
BEGIN:STANDARD
TZOFFSETFROM:+0000
TZOFFSETTO:+0000
TZNAME:UTC
DTSTART:20240101T000000
END:STANDARD
END:VTIMEZONE
BEGIN:VEVENT
DTSTART;TZID=UTC:20250214T190000
DTEND;TZID=UTC:20250214T210000
DTSTAMP:20260419T201317
CREATED:20250129T155100Z
LAST-MODIFIED:20250129T155100Z
UID:106-1739559600-1739566800@walterplathe.de
SUMMARY:"Hurengespräche" von Heinrich Zille - Walter Plathe liest
DESCRIPTION:Hurengespräche“ von Heinrich Zille\n\nStadttheater Köpenick (im Hauptmannsklub) | Wendenschloßstraße 103-105 | 12557 BERLIN
URL:https://walterplathe.de/event/hurengespraeche-von-heinrich-zille-walter-plathe-liest/
END:VEVENT
END:VCALENDAR